BEGIN:VCALENDAR
VERSION:2.0
PRODID:-//Saint Peter and Saint Paul, Edenbridge - ECPv6.15.20//NONSGML v1.0//EN
CALSCALE:GREGORIAN
METHOD:PUBLISH
X-WR-CALNAME:Saint Peter and Saint Paul, Edenbridge
X-ORIGINAL-URL:https://edenbridgeparishchurch.org
X-WR-CALDESC:Events for Saint Peter and Saint Paul, Edenbridge
REFRESH-INTERVAL;VALUE=DURATION:PT1H
X-Robots-Tag:noindex
X-PUBLISHED-TTL:PT1H
BEGIN:VTIMEZONE
TZID:Europe/London
BEGIN:DAYLIGHT
TZOFFSETFROM:+0000
TZOFFSETTO:+0100
TZNAME:BST
DTSTART:20250330T010000
END:DAYLIGHT
BEGIN:STANDARD
TZOFFSETFROM:+0100
TZOFFSETTO:+0000
TZNAME:GMT
DTSTART:20251026T010000
END:STANDARD
BEGIN:DAYLIGHT
TZOFFSETFROM:+0000
TZOFFSETTO:+0100
TZNAME:BST
DTSTART:20260329T010000
END:DAYLIGHT
BEGIN:STANDARD
TZOFFSETFROM:+0100
TZOFFSETTO:+0000
TZNAME:GMT
DTSTART:20261025T010000
END:STANDARD
BEGIN:DAYLIGHT
TZOFFSETFROM:+0000
TZOFFSETTO:+0100
TZNAME:BST
DTSTART:20270328T010000
END:DAYLIGHT
BEGIN:STANDARD
TZOFFSETFROM:+0100
TZOFFSETTO:+0000
TZNAME:GMT
DTSTART:20271031T010000
END:STANDARD
END:VTIMEZONE
BEGIN:VEVENT
DTSTART;VALUE=DATE:20260422
DTEND;VALUE=DATE:20260423
DTSTAMP:20260421T085906
CREATED:20260418T101910Z
LAST-MODIFIED:20260419T140158Z
UID:2577-1776816000-1776902399@edenbridgeparishchurch.org
SUMMARY:Midweek service
DESCRIPTION:10.30 am  Said Holy Communion (1662)
URL:https://edenbridgeparishchurch.org/event/wednesday-service/
CATEGORIES:Services
END:VEVENT
BEGIN:VEVENT
DTSTART;VALUE=DATE:20260426
DTEND;VALUE=DATE:20260427
DTSTAMP:20260421T085906
CREATED:20260418T101951Z
LAST-MODIFIED:20260419T135154Z
UID:2574-1777161600-1777247999@edenbridgeparishchurch.org
SUMMARY:Sunday services
DESCRIPTION:8am  Said Holy Communion\n9.30am  Sung Holy Communion and Baptism\n6.30 pm  Evensong
URL:https://edenbridgeparishchurch.org/event/sunday-services/
CATEGORIES:Services
END:VEVENT
BEGIN:VEVENT
DTSTART;VALUE=DATE:20260429
DTEND;VALUE=DATE:20260430
DTSTAMP:20260421T085906
CREATED:20260419T140035Z
LAST-MODIFIED:20260419T140035Z
UID:2668-1777420800-1777507199@edenbridgeparishchurch.org
SUMMARY:Midweek service
DESCRIPTION:10.30 am Said Holy Communion (1662)
URL:https://edenbridgeparishchurch.org/event/midweek-service/
CATEGORIES:Services
END:VEVENT
BEGIN:VEVENT
DTSTART;VALUE=DATE:20260503
DTEND;VALUE=DATE:20260504
DTSTAMP:20260421T085906
CREATED:20260419T133330Z
LAST-MODIFIED:20260419T134830Z
UID:2646-1777766400-1777852799@edenbridgeparishchurch.org
SUMMARY:Sunday services
DESCRIPTION:8am  Said Holy Communion\n9.30am  Sung Holy Communion\n11 am All Age Service\n6.30 pm  Evensong
URL:https://edenbridgeparishchurch.org/event/sunday-services-2/
CATEGORIES:Services
END:VEVENT
BEGIN:VEVENT
DTSTART;VALUE=DATE:20260503
DTEND;VALUE=DATE:20260504
DTSTAMP:20260421T085906
CREATED:20260419T133823Z
LAST-MODIFIED:20260419T133823Z
UID:2652-1777766400-1777852799@edenbridgeparishchurch.org
SUMMARY:All Age Service
DESCRIPTION:
URL:https://edenbridgeparishchurch.org/event/all-age-service/
CATEGORIES:All age worship,Services
END:VEVENT
BEGIN:VEVENT
DTSTART;VALUE=DATE:20260506
DTEND;VALUE=DATE:20260507
DTSTAMP:20260421T085906
CREATED:20260419T140326Z
LAST-MODIFIED:20260419T140326Z
UID:2671-1778025600-1778111999@edenbridgeparishchurch.org
SUMMARY:Midweek service
DESCRIPTION:10.30 am  Said Holy Communion (1662)
URL:https://edenbridgeparishchurch.org/event/midweek-service-2/
CATEGORIES:Services
END:VEVENT
BEGIN:VEVENT
DTSTART;VALUE=DATE:20260509
DTEND;VALUE=DATE:20260510
DTSTAMP:20260421T085906
CREATED:20260419T135630Z
LAST-MODIFIED:20260419T140518Z
UID:2664-1778284800-1778371199@edenbridgeparishchurch.org
SUMMARY:Coffee morning
DESCRIPTION:10 am until 12 noon\nCake and plant sale
URL:https://edenbridgeparishchurch.org/event/coffee-morning/
CATEGORIES:Social events
END:VEVENT
BEGIN:VEVENT
DTSTART;VALUE=DATE:20260510
DTEND;VALUE=DATE:20260511
DTSTAMP:20260421T085906
CREATED:20260419T133450Z
LAST-MODIFIED:20260419T140834Z
UID:2648-1778371200-1778457599@edenbridgeparishchurch.org
SUMMARY:Sunday services
DESCRIPTION:8am  Said Holy Communion\n9.30am  Sung Holy Communion followed by Annual Parochial Church Meeting\n6.30 pm  Evensong
URL:https://edenbridgeparishchurch.org/event/sunday-services-3/
CATEGORIES:Services
END:VEVENT
BEGIN:VEVENT
DTSTART;VALUE=DATE:20260513
DTEND;VALUE=DATE:20260514
DTSTAMP:20260421T085906
CREATED:20260419T140711Z
LAST-MODIFIED:20260419T140721Z
UID:2674-1778630400-1778716799@edenbridgeparishchurch.org
SUMMARY:Midweek service
DESCRIPTION:10.30 am  Said Holy Communion (1662)
URL:https://edenbridgeparishchurch.org/event/midweek-service-3/
CATEGORIES:Services
END:VEVENT
BEGIN:VEVENT
DTSTART;VALUE=DATE:20260517
DTEND;VALUE=DATE:20260518
DTSTAMP:20260421T085906
CREATED:20260419T134107Z
LAST-MODIFIED:20260419T134705Z
UID:2656-1778976000-1779062399@edenbridgeparishchurch.org
SUMMARY:Sunday services
DESCRIPTION:8am  Said Holy Communion\n9.30am  Sung Holy Communion\n6.30 pm  Evensong
URL:https://edenbridgeparishchurch.org/event/sunday-services-4/
CATEGORIES:Services
END:VEVENT
BEGIN:VEVENT
DTSTART;VALUE=DATE:20260524
DTEND;VALUE=DATE:20260525
DTSTAMP:20260421T085906
CREATED:20260419T135447Z
LAST-MODIFIED:20260419T140100Z
UID:2661-1779580800-1779667199@edenbridgeparishchurch.org
SUMMARY:Sunday services
DESCRIPTION:8am  Said Holy Communion\n9.30am  Sung Holy Communion\n6.30 pm  Evensong
URL:https://edenbridgeparishchurch.org/event/sunday-services-5/
CATEGORIES:Services
END:VEVENT
END:VCALENDAR